BEGIN:VCALENDAR
VERSION:2.0
PRODID:-//Vereinigung Schweiz-Vietnam - ECPv6.15.20//NONSGML v1.0//EN
CALSCALE:GREGORIAN
METHOD:PUBLISH
X-WR-CALNAME:Vereinigung Schweiz-Vietnam
X-ORIGINAL-URL:https://vsv-asv.ch
X-WR-CALDESC:Veranstaltungen für Vereinigung Schweiz-Vietnam
REFRESH-INTERVAL;VALUE=DURATION:PT1H
X-Robots-Tag:noindex
X-PUBLISHED-TTL:PT1H
BEGIN:VTIMEZONE
TZID:Europe/Zurich
BEGIN:DAYLIGHT
TZOFFSETFROM:+0100
TZOFFSETTO:+0200
TZNAME:CEST
DTSTART:20210328T010000
END:DAYLIGHT
BEGIN:STANDARD
TZOFFSETFROM:+0200
TZOFFSETTO:+0100
TZNAME:CET
DTSTART:20211031T010000
END:STANDARD
BEGIN:DAYLIGHT
TZOFFSETFROM:+0100
TZOFFSETTO:+0200
TZNAME:CEST
DTSTART:20220327T010000
END:DAYLIGHT
BEGIN:STANDARD
TZOFFSETFROM:+0200
TZOFFSETTO:+0100
TZNAME:CET
DTSTART:20221030T010000
END:STANDARD
BEGIN:DAYLIGHT
TZOFFSETFROM:+0100
TZOFFSETTO:+0200
TZNAME:CEST
DTSTART:20230326T010000
END:DAYLIGHT
BEGIN:STANDARD
TZOFFSETFROM:+0200
TZOFFSETTO:+0100
TZNAME:CET
DTSTART:20231029T010000
END:STANDARD
END:VTIMEZONE
BEGIN:VEVENT
DTSTART;TZID=Europe/Zurich:20220702T153000
DTEND;TZID=Europe/Zurich:20220702T183000
DTSTAMP:20260423T104711
CREATED:20220821T032200Z
LAST-MODIFIED:20220824T063817Z
UID:30778-1656775800-1656786600@vsv-asv.ch
SUMMARY:Jahresversammlung 2022
DESCRIPTION:
URL:https://vsv-asv.ch/agenda/jahresversammlung-2022
LOCATION:Gemeinschaftsraum\, Gertrudstrasse 99\, Zürich\, 8055
CATEGORIES:Jahresversammlung
ORGANIZER;CN="VSV-ASV":MAILTO:info@vsv-asv.ch
END:VEVENT
END:VCALENDAR