BEGIN:VCALENDAR
VERSION:2.0
PRODID:-//Vereinigung Schweiz-Vietnam - ECPv6.15.20//NONSGML v1.0//EN
CALSCALE:GREGORIAN
METHOD:PUBLISH
X-ORIGINAL-URL:https://vsv-asv.ch
X-WR-CALDESC:Veranstaltungen für Vereinigung Schweiz-Vietnam
REFRESH-INTERVAL;VALUE=DURATION:PT1H
X-Robots-Tag:noindex
X-PUBLISHED-TTL:PT1H
BEGIN:VTIMEZONE
TZID:Europe/Zurich
BEGIN:DAYLIGHT
TZOFFSETFROM:+0100
TZOFFSETTO:+0200
TZNAME:CEST
DTSTART:20210328T010000
END:DAYLIGHT
BEGIN:STANDARD
TZOFFSETFROM:+0200
TZOFFSETTO:+0100
TZNAME:CET
DTSTART:20211031T010000
END:STANDARD
BEGIN:DAYLIGHT
TZOFFSETFROM:+0100
TZOFFSETTO:+0200
TZNAME:CEST
DTSTART:20220327T010000
END:DAYLIGHT
BEGIN:STANDARD
TZOFFSETFROM:+0200
TZOFFSETTO:+0100
TZNAME:CET
DTSTART:20221030T010000
END:STANDARD
BEGIN:DAYLIGHT
TZOFFSETFROM:+0100
TZOFFSETTO:+0200
TZNAME:CEST
DTSTART:20230326T010000
END:DAYLIGHT
BEGIN:STANDARD
TZOFFSETFROM:+0200
TZOFFSETTO:+0100
TZNAME:CET
DTSTART:20231029T010000
END:STANDARD
END:VTIMEZONE
BEGIN:VEVENT
DTSTART;VALUE=DATE:20220810
DTEND;VALUE=DATE:20220811
DTSTAMP:20260421T191739
CREATED:20221103T064329Z
LAST-MODIFIED:20221111T074334Z
UID:32753-1660089600-1660175999@vsv-asv.ch
SUMMARY:Agent-Orange-Gedenktag
DESCRIPTION:Am 10. August 2022 können wir vor der Kirche Offener St. Jakob am Stauffacher einen Infotisch und Bilder zum Agent-Orange-Gedenktag aufstellen\, Flyer verteilen und die PassantInnen informieren.\n\nMedico international Schweiz sammelt mit der diesjährigen Jahrespartnerschaft für die Ausbildung von freiwilligen Gesundheits-PromotorInnen.\nhttps://www.medicointernational.ch/images/PDFs/JaPa_Vietnam_22_23_digital.pdf\nSpezifisch geschult werden sollen diese für die Betreuung von Agent-Orange-Opfern\, insbesondere der 1. Generation. Gleichzeitig sollen sie auch zu PromotorInnen für die Rechte\, die Würde und Inklusion von Menschen mit Beeinträchtigungen werden. Der medico-Flyer wird auf den 10. August hin ebenfalls vorliegen.
URL:https://vsv-asv.ch/agenda/agent-orange-gedenktag
LOCATION:Kirche Offener St. Jakob\, Stauffacherstrasse 34\, Zürich\, 8004\, Switzerland
CATEGORIES:Agent Orange
ATTACH;FMTTYPE=image/jpeg:https://vsv-asv.ch/wp-content/uploads/2022/11/JaPa_Vietnam-2022.jpeg
ORGANIZER;CN="VSV-ASV":MAILTO:info@vsv-asv.ch
END:VEVENT
BEGIN:VEVENT
DTSTART;TZID=Europe/Zurich:20220827T100000
DTEND;TZID=Europe/Zurich:20220827T120000
DTSTAMP:20260421T191739
CREATED:20220824T063206Z
LAST-MODIFIED:20221116T033900Z
UID:31024-1661594400-1661601600@vsv-asv.ch
SUMMARY:Bình-Minh Schule: Anfang des neuen Schuljahres 2022-2023
DESCRIPTION:
URL:https://vsv-asv.ch/agenda/neues-schuljarh-binh-minh-schule
LOCATION:Sprachschule Academia\, 3.-4. Stock\, Zürichstrasse 131\, Dübendorf\, 8600
CATEGORIES:Binh Minh Schule
ATTACH;FMTTYPE=image/png:https://vsv-asv.ch/wp-content/uploads/2022/03/BinhMinh-logo.png
ORGANIZER;CN="Binh Minh Schule":MAILTO:tiengviet.zh@gmail.com
END:VEVENT
END:VCALENDAR