BEGIN:VCALENDAR
VERSION:2.0
PRODID:-//Vereinigung Schweiz-Vietnam - ECPv6.15.20//NONSGML v1.0//EN
CALSCALE:GREGORIAN
METHOD:PUBLISH
X-WR-CALNAME:Vereinigung Schweiz-Vietnam
X-ORIGINAL-URL:https://vsv-asv.ch
X-WR-CALDESC:Veranstaltungen für Vereinigung Schweiz-Vietnam
REFRESH-INTERVAL;VALUE=DURATION:PT1H
X-Robots-Tag:noindex
X-PUBLISHED-TTL:PT1H
BEGIN:VTIMEZONE
TZID:Europe/Zurich
BEGIN:DAYLIGHT
TZOFFSETFROM:+0100
TZOFFSETTO:+0200
TZNAME:CEST
DTSTART:20240331T010000
END:DAYLIGHT
BEGIN:STANDARD
TZOFFSETFROM:+0200
TZOFFSETTO:+0100
TZNAME:CET
DTSTART:20241027T010000
END:STANDARD
BEGIN:DAYLIGHT
TZOFFSETFROM:+0100
TZOFFSETTO:+0200
TZNAME:CEST
DTSTART:20250330T010000
END:DAYLIGHT
BEGIN:STANDARD
TZOFFSETFROM:+0200
TZOFFSETTO:+0100
TZNAME:CET
DTSTART:20251026T010000
END:STANDARD
BEGIN:DAYLIGHT
TZOFFSETFROM:+0100
TZOFFSETTO:+0200
TZNAME:CEST
DTSTART:20260329T010000
END:DAYLIGHT
BEGIN:STANDARD
TZOFFSETFROM:+0200
TZOFFSETTO:+0100
TZNAME:CET
DTSTART:20261025T010000
END:STANDARD
END:VTIMEZONE
BEGIN:VEVENT
DTSTART;TZID=Europe/Zurich:20251018T160000
DTEND;TZID=Europe/Zurich:20251018T160000
DTSTAMP:20260423T030016
CREATED:20251121T101410Z
LAST-MODIFIED:20251121T101943Z
UID:34101-1760803200-1760803200@vsv-asv.ch
SUMMARY:Jahresversammlung 2025
DESCRIPTION:Download Einladung
URL:https://vsv-asv.ch/agenda/jahresversammlung-2025
LOCATION:Gemeinschaftsraum an der Gertrudstrasse 99\, 8055 Zürich
CATEGORIES:Jahresversammlung
ORGANIZER;CN="VSV-ASV":MAILTO:info@vsv-asv.ch
END:VEVENT
END:VCALENDAR